BEGIN:VCALENDAR
VERSION:2.0
PRODID:-//eventon.com NONSGML v1.0//EN
CALSCALE:GREGORIAN
METHOD:PUBLISH
BEGIN:VEVENT
UID:69e61d95ac7fb
DTSTAMP:20260420T123533Z
DTSTART:20211107T100000Z
DTEND:20211107T180000Z
LOCATION:Mantova Corso Vittorio Emanuele 13 Mantova Italy
SUMMARY:GIUDICE INTERIORE – parte 2
DESCRIPTION:4 incontri\,  di una giornata ciascuno\,  in cui acquisire gli 
 strumenti fondamentali per conoscere e gestire il tuo Giudice Interiore.\nh
 ttps://www.irenesgarbi.it/eventi/giudice-interiore-parte-2/
URL:https://www.irenesgarbi.it/eventi/giudice-interiore-parte-2/
END:VEVENT
END:VCALENDAR